BEGIN:VCALENDAR
VERSION:2.0
PRODID:-//wp-events-plugin.com//7.2.3.1//EN
TZID:America/Chicago
X-WR-TIMEZONE:America/Chicago
BEGIN:VEVENT
UID:8@mrwtc.org
DTSTART;TZID=America/Chicago:20230522T080000
DTEND;TZID=America/Chicago:20230629T120000
DTSTAMP:20230515T180730Z
URL:https://mrwtc.org/events/cnc-technology-2/
SUMMARY:CNC Technology
DESCRIPTION:The CNC machinist operates computer numerical control machines 
 to fabricate parts. The CNC machinist loads parts in the machine\, cycles 
 the machine\, and detects malfunctions in the machine operations such as w
 orn or damaged cutting tools. The position runs production lots\, communic
 ates with workers regarding productions runs\, and maintains a self-organi
 zed\, clean work environment.\n\nThis is a Monday - Thursday class.\n\nOri
 entation is mandatory which is May 17\, 2023 from 1:00pm until 4:00pm \n\
 n&nbsp\;
ATTACH;FMTTYPE=image/jpeg:https://mrwtc.org/wp-content/uploads/2023/03/CNC
 technology-web.jpg
CATEGORIES:Manufacturing Technology
LOCATION:MRWTC\, 2913 East South Blvd\, Montgomery\, AL\, 36116\, United St
 ates
X-APPLE-STRUCTURED-LOCATION;VALUE=URI;X-ADDRESS=2913 East South Blvd\, Mont
 gomery\, AL\, 36116\, United States;X-APPLE-RADIUS=100;X-TITLE=MRWTC:geo:0
 ,0
END:VEVENT
BEGIN:VTIMEZONE
TZID:America/Chicago
X-LIC-LOCATION:America/Chicago
BEGIN:DAYLIGHT
DTSTART:20230312T030000
TZOFFSETFROM:-0600
TZOFFSETTO:-0500
TZNAME:CDT
END:DAYLIGHT
END:VTIMEZONE
END:VCALENDAR